BEGIN:VCALENDAR
VERSION:2.0
PRODID:-//Tres Hermanos Conservation Authority - ECPv6.15.17.1//NONSGML v1.0//EN
CALSCALE:GREGORIAN
METHOD:PUBLISH
X-ORIGINAL-URL:https://treshermanos.org
X-WR-CALDESC:Events for Tres Hermanos Conservation Authority
REFRESH-INTERVAL;VALUE=DURATION:PT1H
X-Robots-Tag:noindex
X-PUBLISHED-TTL:PT1H
BEGIN:VTIMEZONE
TZID:America/Chicago
BEGIN:DAYLIGHT
TZOFFSETFROM:-0600
TZOFFSETTO:-0500
TZNAME:CDT
DTSTART:20200308T080000
END:DAYLIGHT
BEGIN:STANDARD
TZOFFSETFROM:-0500
TZOFFSETTO:-0600
TZNAME:CST
DTSTART:20201101T070000
END:STANDARD
BEGIN:DAYLIGHT
TZOFFSETFROM:-0600
TZOFFSETTO:-0500
TZNAME:CDT
DTSTART:20210314T080000
END:DAYLIGHT
BEGIN:STANDARD
TZOFFSETFROM:-0500
TZOFFSETTO:-0600
TZNAME:CST
DTSTART:20211107T070000
END:STANDARD
BEGIN:DAYLIGHT
TZOFFSETFROM:-0600
TZOFFSETTO:-0500
TZNAME:CDT
DTSTART:20220313T080000
END:DAYLIGHT
BEGIN:STANDARD
TZOFFSETFROM:-0500
TZOFFSETTO:-0600
TZNAME:CST
DTSTART:20221106T070000
END:STANDARD
END:VTIMEZONE
BEGIN:VEVENT
DTSTART;TZID=America/Chicago:20211215T180000
DTEND;TZID=America/Chicago:20211215T180000
DTSTAMP:20260422T060917
CREATED:20211017T111814Z
LAST-MODIFIED:20211123T190154Z
UID:10000011-1639591200-1639591200@treshermanos.org
SUMMARY:Tres Hermanos Conservation Authority Board Meeting
DESCRIPTION:Meetings are conducted telephonically and in person at Diamond Bar City Hall inside the Windmill Room. Public participation details are available on the meeting agenda. \nView meeting information on the Agenda & Minutes page \nSign up to receive meeting notices \nFor additional meeting information\, contact the Authority Secretary at (909) 839-7010 or send email to secretary@treshermanos.org
URL:https://treshermanos.org/event/tres-hermanos-conservation-authority-2021-11-17/2021-12-15/
LOCATION:City of Chino Hills\, 14000 City Center Drive\, Chino Hills\, CA\, 91709\, United States
CATEGORIES:THCA
END:VEVENT
END:VCALENDAR